Package: simpleSeg Version: 1.8.0 Command: /home/biocbuild/R/R/bin/R CMD INSTALL simpleSeg StartedAt: 2025-02-03 21:03:36 -0000 (Mon, 03 Feb 2025) EndedAt: 2025-02-03 21:03:38 -0000 (Mon, 03 Feb 2025) EllapsedTime: 1.1 seconds RetCode: 1 Status: ERROR