Package: simplifyEnrichment Version: 2.0.0 Command: /Library/Frameworks/R.framework/Resources/bin/R CMD INSTALL simplifyEnrichment StartedAt: 2025-02-03 16:12:29 -0500 (Mon, 03 Feb 2025) EndedAt: 2025-02-03 16:13:06 -0500 (Mon, 03 Feb 2025) EllapsedTime: 37.0 seconds RetCode: 0 Status: OK