Package: simplifyEnrichment Version: 2.0.0 Command: rm -rf simplifyEnrichment.buildbin-libdir && mkdir simplifyEnrichment.buildbin-libdir && F:\biocbuild\bbs-3.20-bioc\R\bin\R.exe CMD INSTALL --build --library=simplifyEnrichment.buildbin-libdir simplifyEnrichment_2.0.0.tar.gz StartedAt: 2025-02-04 09:32:40 -0500 (Tue, 04 Feb 2025) EndedAt: 2025-02-04 09:34:35 -0500 (Tue, 04 Feb 2025) EllapsedTime: 114.3 seconds RetCode: 0 Status: OK PackageFile: simplifyEnrichment_2.0.0.zip PackageFileSize: 1.528 MiB