Package: simplifyEnrichment Version: 2.0.0 Command: chmod a+r simplifyEnrichment -R && F:\biocbuild\bbs-3.20-bioc\R\bin\R.exe CMD build --keep-empty-dirs --no-resave-data simplifyEnrichment StartedAt: 2025-02-10 22:06:13 -0500 (Mon, 10 Feb 2025) EndedAt: 2025-02-10 22:07:42 -0500 (Mon, 10 Feb 2025) EllapsedTime: 89.4 seconds RetCode: 0 Status: OK PackageFile: simplifyEnrichment_2.0.0.tar.gz PackageFileSize: 1.025 MiB