Package: simplifyEnrichment Version: 2.0.0 Command: /home/biocbuild/R/R/bin/R CMD INSTALL simplifyEnrichment StartedAt: 2025-02-10 20:48:27 -0000 (Mon, 10 Feb 2025) EndedAt: 2025-02-10 20:48:51 -0000 (Mon, 10 Feb 2025) EllapsedTime: 23.3 seconds RetCode: 0 Status: OK