Package: sincell Version: 1.38.0 Command: /Library/Frameworks/R.framework/Resources/bin/R CMD build --keep-empty-dirs --no-resave-data sincell StartedAt: 2025-02-04 08:24:51 -0500 (Tue, 04 Feb 2025) EndedAt: 2025-02-04 08:29:05 -0500 (Tue, 04 Feb 2025) EllapsedTime: 254.3 seconds RetCode: 0 Status: OK PackageFile: sincell_1.38.0.tar.gz PackageFileSize: 1.184 MiB