Package: sincell Version: 1.38.0 Command: rm -rf sincell.buildbin-libdir && mkdir sincell.buildbin-libdir && /Users/biocbuild/BBS/utils/build-universal.sh sincell_1.38.0.tar.gz /Library/Frameworks/R.framework/Resources/bin/R sincell.buildbin-libdir StartedAt: 2025-01-31 13:43:41 -0500 (Fri, 31 Jan 2025) EndedAt: 2025-01-31 13:44:29 -0500 (Fri, 31 Jan 2025) EllapsedTime: 47.5 seconds RetCode: 0 Status: OK PackageFile: sincell_1.38.0.tgz PackageFileSize: 1.299 MiB