Package: sincell Version: 1.38.0 Command: /Library/Frameworks/R.framework/Resources/bin/R CMD build --keep-empty-dirs --no-resave-data sincell StartedAt: 2025-02-03 22:23:26 -0500 (Mon, 03 Feb 2025) EndedAt: 2025-02-03 22:28:50 -0500 (Mon, 03 Feb 2025) EllapsedTime: 324.0 seconds RetCode: 0 Status: OK PackageFile: sincell_1.38.0.tar.gz PackageFileSize: 1.184 MiB