Package: sincell Version: 1.38.0 Command: /Library/Frameworks/R.framework/Resources/bin/R CMD check --install=check:sincell.install-out.txt --library=/Library/Frameworks/R.framework/Resources/library --no-vignettes --timings sincell_1.38.0.tar.gz StartedAt: 2025-02-04 10:15:15 -0500 (Tue, 04 Feb 2025) EndedAt: 2025-02-04 10:17:27 -0500 (Tue, 04 Feb 2025) EllapsedTime: 132.5 seconds RetCode: 0 Status: OK CheckDir: sincell.Rcheck Warnings: 0