Package: sincell Version: 1.38.0 Command: chmod a+r sincell -R && F:\biocbuild\bbs-3.20-bioc\R\bin\R.exe CMD build --keep-empty-dirs --no-resave-data sincell StartedAt: 2025-02-03 22:11:50 -0500 (Mon, 03 Feb 2025) EndedAt: 2025-02-03 22:19:34 -0500 (Mon, 03 Feb 2025) EllapsedTime: 464.4 seconds RetCode: 0 Status: OK PackageFile: sincell_1.38.0.tar.gz PackageFileSize: 952 KiB