Package: sincell Version: 1.38.0 Command: /home/biocbuild/R/R/bin/R CMD build --keep-empty-dirs --no-resave-data sincell StartedAt: 2025-02-04 03:03:10 -0000 (Tue, 04 Feb 2025) EndedAt: 2025-02-04 03:06:02 -0000 (Tue, 04 Feb 2025) EllapsedTime: 171.3 seconds RetCode: 0 Status: OK PackageFile: sincell_1.38.0.tar.gz PackageFileSize: 1.01 MiB