Package: sincell Version: 1.38.0 Command: /home/biocbuild/R/R/bin/R CMD check --install=check:sincell.install-out.txt --library=/home/biocbuild/R/R/site-library --no-vignettes --timings sincell_1.38.0.tar.gz StartedAt: 2025-02-04 11:08:32 -0000 (Tue, 04 Feb 2025) EndedAt: 2025-02-04 11:09:38 -0000 (Tue, 04 Feb 2025) EllapsedTime: 66.1 seconds RetCode: 0 Status: OK CheckDir: sincell.Rcheck Warnings: 0