Package: sincell Version: 1.38.0 Command: /home/biocbuild/R/R/bin/R CMD INSTALL sincell StartedAt: 2025-02-03 20:29:04 -0000 (Mon, 03 Feb 2025) EndedAt: 2025-02-03 20:29:32 -0000 (Mon, 03 Feb 2025) EllapsedTime: 28.2 seconds RetCode: 0 Status: OK