Package: singleCellTK Version: 2.16.0 Command: /Library/Frameworks/R.framework/Resources/bin/R CMD build --keep-empty-dirs --no-resave-data singleCellTK StartedAt: 2025-01-31 08:16:57 -0500 (Fri, 31 Jan 2025) EndedAt: 2025-01-31 08:17:01 -0500 (Fri, 31 Jan 2025) EllapsedTime: 3.4 seconds RetCode: 1 Status: ERROR PackageFile: None PackageFileSize: NA