Package: singleCellTK Version: 2.16.0 Command: /Library/Frameworks/R.framework/Resources/bin/R CMD build --keep-empty-dirs --no-resave-data singleCellTK StartedAt: 2025-01-30 22:57:30 -0500 (Thu, 30 Jan 2025) EndedAt: 2025-01-30 22:57:35 -0500 (Thu, 30 Jan 2025) EllapsedTime: 5.6 seconds RetCode: 1 Status: ERROR PackageFile: None PackageFileSize: NA