Package: singleCellTK Version: 2.16.0 Command: /Library/Frameworks/R.framework/Resources/bin/R CMD check --install=check:singleCellTK.install-out.txt --library=/Library/Frameworks/R.framework/Resources/library --no-vignettes --timings singleCellTK_2.16.0.tar.gz StartedAt: 2025-02-04 10:17:27 -0500 (Tue, 04 Feb 2025) EndedAt: 2025-02-04 10:43:54 -0500 (Tue, 04 Feb 2025) EllapsedTime: 1586.5 seconds RetCode: 0 Status: OK CheckDir: singleCellTK.Rcheck Warnings: 0