Package: singleCellTK Version: 2.16.0 Command: set _R_CHECK_FORCE_SUGGESTS_=0&& F:\biocbuild\bbs-3.20-bioc\R\bin\R.exe CMD check --no-multiarch --install=check:singleCellTK.install-out.txt --library=F:\biocbuild\bbs-3.20-bioc\R\library --no-vignettes --timings singleCellTK_2.16.0.tar.gz StartedAt: 2025-02-04 06:23:22 -0500 (Tue, 04 Feb 2025) EndedAt: 2025-02-04 06:41:41 -0500 (Tue, 04 Feb 2025) EllapsedTime: 1098.9 seconds RetCode: 0 Status: OK CheckDir: singleCellTK.Rcheck Warnings: 0