Package: singleCellTK Version: 2.16.0 Command: /home/biocbuild/R/R/bin/R CMD INSTALL singleCellTK StartedAt: 2025-02-03 21:19:25 -0000 (Mon, 03 Feb 2025) EndedAt: 2025-02-03 21:20:21 -0000 (Mon, 03 Feb 2025) EllapsedTime: 55.0 seconds RetCode: 0 Status: OK