Package: singscore Version: 1.26.0 Command: /Library/Frameworks/R.framework/Resources/bin/R CMD INSTALL singscore StartedAt: 2025-01-30 16:52:51 -0500 (Thu, 30 Jan 2025) EndedAt: 2025-01-30 16:53:29 -0500 (Thu, 30 Jan 2025) EllapsedTime: 37.9 seconds RetCode: 0 Status: OK