Package: singscore Version: 1.26.0 Command: rm -rf singscore.buildbin-libdir && mkdir singscore.buildbin-libdir && /Users/biocbuild/BBS/utils/build-universal.sh singscore_1.26.0.tar.gz /Library/Frameworks/R.framework/Resources/bin/R singscore.buildbin-libdir StartedAt: 2025-01-31 13:44:00 -0500 (Fri, 31 Jan 2025) EndedAt: 2025-01-31 13:45:10 -0500 (Fri, 31 Jan 2025) EllapsedTime: 70.1 seconds RetCode: 0 Status: OK PackageFile: singscore_1.26.0.tgz PackageFileSize: 3.444 MiB