Package: singscore Version: 1.26.0 Command: /home/biocbuild/bbs-3.20-bioc/R/bin/R CMD check --install=check:singscore.install-out.txt --library=/home/biocbuild/bbs-3.20-bioc/R/site-library --timings singscore_1.26.0.tar.gz StartedAt: 2025-02-04 02:34:59 -0500 (Tue, 04 Feb 2025) EndedAt: 2025-02-04 02:39:18 -0500 (Tue, 04 Feb 2025) EllapsedTime: 259.2 seconds RetCode: 0 Status: OK CheckDir: singscore.Rcheck Warnings: 0