Package: singscore Version: 1.26.0 Command: chmod a+r singscore -R && F:\biocbuild\bbs-3.20-bioc\R\bin\R.exe CMD build --keep-empty-dirs --no-resave-data singscore StartedAt: 2025-02-03 22:12:48 -0500 (Mon, 03 Feb 2025) EndedAt: 2025-02-03 22:14:30 -0500 (Mon, 03 Feb 2025) EllapsedTime: 101.6 seconds RetCode: 0 Status: OK PackageFile: singscore_1.26.0.tar.gz PackageFileSize: 2.383 MiB