Package: singscore Version: 1.26.0 Command: F:\biocbuild\bbs-3.20-bioc\R\bin\R.exe CMD check --no-multiarch --install=check:singscore.install-out.txt --library=F:\biocbuild\bbs-3.20-bioc\R\library --no-vignettes --timings singscore_1.26.0.tar.gz StartedAt: 2025-02-04 06:23:49 -0500 (Tue, 04 Feb 2025) EndedAt: 2025-02-04 06:28:32 -0500 (Tue, 04 Feb 2025) EllapsedTime: 283.2 seconds RetCode: 0 Status: OK CheckDir: singscore.Rcheck Warnings: 0