Package: sitePath Version: 1.22.0 Command: rm -rf sitePath.buildbin-libdir && mkdir sitePath.buildbin-libdir && /Users/biocbuild/BBS/utils/build-universal.sh sitePath_1.22.0.tar.gz /Library/Frameworks/R.framework/Resources/bin/R sitePath.buildbin-libdir StartedAt: 2025-02-12 17:06:47 -0500 (Wed, 12 Feb 2025) EndedAt: 2025-02-12 17:07:24 -0500 (Wed, 12 Feb 2025) EllapsedTime: 36.2 seconds RetCode: 0 Status: OK PackageFile: sitePath_1.22.0.tgz PackageFileSize: 1.487 MiB