Package: sitePath Version: 1.22.0 Command: /Library/Frameworks/R.framework/Resources/bin/R CMD build --keep-empty-dirs --no-resave-data sitePath StartedAt: 2025-02-04 08:32:07 -0500 (Tue, 04 Feb 2025) EndedAt: 2025-02-04 08:33:10 -0500 (Tue, 04 Feb 2025) EllapsedTime: 63.1 seconds RetCode: 0 Status: OK PackageFile: sitePath_1.22.0.tar.gz PackageFileSize: 1.244 MiB