Package: sitePath Version: 1.22.0 Command: /Library/Frameworks/R.framework/Resources/bin/R CMD build --keep-empty-dirs --no-resave-data sitePath StartedAt: 2025-02-10 22:28:43 -0500 (Mon, 10 Feb 2025) EndedAt: 2025-02-10 22:30:46 -0500 (Mon, 10 Feb 2025) EllapsedTime: 123.2 seconds RetCode: 0 Status: OK PackageFile: sitePath_1.22.0.tar.gz PackageFileSize: 1.244 MiB