Package: sitePath Version: 1.22.0 Command: /home/biocbuild/bbs-3.20-bioc/R/bin/R CMD check --install=check:sitePath.install-out.txt --library=/home/biocbuild/bbs-3.20-bioc/R/site-library --timings sitePath_1.22.0.tar.gz StartedAt: 2025-02-04 02:35:55 -0500 (Tue, 04 Feb 2025) EndedAt: 2025-02-04 02:43:02 -0500 (Tue, 04 Feb 2025) EllapsedTime: 427.4 seconds RetCode: 0 Status: OK CheckDir: sitePath.Rcheck Warnings: 0