Package: sitePath Version: 1.22.0 Command: rm -rf sitePath.buildbin-libdir && mkdir sitePath.buildbin-libdir && F:\biocbuild\bbs-3.20-bioc\R\bin\R.exe CMD INSTALL --build --library=sitePath.buildbin-libdir sitePath_1.22.0.tar.gz StartedAt: 2025-02-11 09:31:30 -0500 (Tue, 11 Feb 2025) EndedAt: 2025-02-11 09:32:31 -0500 (Tue, 11 Feb 2025) EllapsedTime: 60.7 seconds RetCode: 0 Status: OK PackageFile: sitePath_1.22.0.zip PackageFileSize: 1.285 MiB