Package: sizepower Version: 1.76.0 Command: rm -rf sizepower.buildbin-libdir && mkdir sizepower.buildbin-libdir && /Users/biocbuild/BBS/utils/build-universal.sh sizepower_1.76.0.tar.gz /Library/Frameworks/R.framework/Resources/bin/R sizepower.buildbin-libdir StartedAt: 2025-02-05 17:53:11 -0500 (Wed, 05 Feb 2025) EndedAt: 2025-02-05 17:53:15 -0500 (Wed, 05 Feb 2025) EllapsedTime: 3.4 seconds RetCode: 0 Status: OK PackageFile: sizepower_1.76.0.tgz PackageFileSize: 314.1 KiB