Package: sizepower Version: 1.76.0 Command: /Library/Frameworks/R.framework/Resources/bin/R CMD check --install=check:sizepower.install-out.txt --library=/Library/Frameworks/R.framework/Resources/library --no-vignettes --timings sizepower_1.76.0.tar.gz StartedAt: 2025-02-12 09:56:18 -0500 (Wed, 12 Feb 2025) EndedAt: 2025-02-12 09:56:41 -0500 (Wed, 12 Feb 2025) EllapsedTime: 22.4 seconds RetCode: 0 Status: OK CheckDir: sizepower.Rcheck Warnings: 0