Package: sizepower Version: 1.76.0 Command: /home/biocbuild/bbs-3.20-bioc/R/bin/R CMD build --keep-empty-dirs --no-resave-data --md5 sizepower StartedAt: 2025-02-03 19:22:50 -0500 (Mon, 03 Feb 2025) EndedAt: 2025-02-03 19:22:55 -0500 (Mon, 03 Feb 2025) EllapsedTime: 5.0 seconds RetCode: 0 Status: OK PackageFile: sizepower_1.76.0.tar.gz PackageFileSize: 296.5 KiB