Package: sketchR Version: 1.2.0 Command: /Library/Frameworks/R.framework/Resources/bin/R CMD build --keep-empty-dirs --no-resave-data sketchR StartedAt: 2025-02-03 22:26:59 -0500 (Mon, 03 Feb 2025) EndedAt: 2025-02-03 22:31:07 -0500 (Mon, 03 Feb 2025) EllapsedTime: 247.9 seconds RetCode: 0 Status: OK PackageFile: sketchR_1.2.0.tar.gz PackageFileSize: 1.171 MiB