Package: skewr Version: 1.38.0 Command: /Library/Frameworks/R.framework/Resources/bin/R CMD check --install=check:skewr.install-out.txt --library=/Library/Frameworks/R.framework/Resources/library --no-vignettes --timings skewr_1.38.0.tar.gz StartedAt: 2025-02-05 10:38:56 -0500 (Wed, 05 Feb 2025) EndedAt: 2025-02-05 10:45:18 -0500 (Wed, 05 Feb 2025) EllapsedTime: 381.3 seconds RetCode: 0 Status: OK CheckDir: skewr.Rcheck Warnings: 0