Package: skewr Version: 1.38.0 Command: F:\biocbuild\bbs-3.20-bioc\R\bin\R.exe CMD INSTALL skewr StartedAt: 2025-01-30 16:56:33 -0500 (Thu, 30 Jan 2025) EndedAt: 2025-01-30 16:57:38 -0500 (Thu, 30 Jan 2025) EllapsedTime: 64.4 seconds RetCode: 0 Status: OK