Package: skewr Version: 1.38.0 Command: /home/biocbuild/R/R/bin/R CMD build --keep-empty-dirs --no-resave-data skewr StartedAt: 2025-01-31 02:48:21 -0000 (Fri, 31 Jan 2025) EndedAt: 2025-01-31 02:50:53 -0000 (Fri, 31 Jan 2025) EllapsedTime: 151.1 seconds RetCode: 0 Status: OK PackageFile: skewr_1.38.0.tar.gz PackageFileSize: 531.9 KiB