Package: smartid Version: 1.2.0 Command: /Library/Frameworks/R.framework/Resources/bin/R CMD build --keep-empty-dirs --no-resave-data smartid StartedAt: 2025-01-31 08:23:10 -0500 (Fri, 31 Jan 2025) EndedAt: 2025-01-31 08:24:29 -0500 (Fri, 31 Jan 2025) EllapsedTime: 78.5 seconds RetCode: 0 Status: OK PackageFile: smartid_1.2.0.tar.gz PackageFileSize: 2.013 MiB