Package: smartid Version: 1.2.0 Command: /Library/Frameworks/R.framework/Resources/bin/R CMD check --install=check:smartid.install-out.txt --library=/Library/Frameworks/R.framework/Resources/library --no-vignettes --timings smartid_1.2.0.tar.gz StartedAt: 2025-02-05 10:42:55 -0500 (Wed, 05 Feb 2025) EndedAt: 2025-02-05 10:46:35 -0500 (Wed, 05 Feb 2025) EllapsedTime: 219.5 seconds RetCode: 0 Status: OK CheckDir: smartid.Rcheck Warnings: 0