Package: smartid Version: 1.2.0 Command: rm -rf smartid.buildbin-libdir && mkdir smartid.buildbin-libdir && /Users/biocbuild/BBS/utils/build-universal.sh smartid_1.2.0.tar.gz /Library/Frameworks/R.framework/Resources/bin/R smartid.buildbin-libdir StartedAt: 2025-01-31 13:44:42 -0500 (Fri, 31 Jan 2025) EndedAt: 2025-01-31 13:45:34 -0500 (Fri, 31 Jan 2025) EllapsedTime: 52.0 seconds RetCode: 0 Status: OK PackageFile: smartid_1.2.0.tgz PackageFileSize: 2.117 MiB