Package: smartid Version: 1.2.0 Command: rm -rf smartid.buildbin-libdir && mkdir smartid.buildbin-libdir && F:\biocbuild\bbs-3.20-bioc\R\bin\R.exe CMD INSTALL --build --library=smartid.buildbin-libdir smartid_1.2.0.tar.gz StartedAt: 2025-02-04 09:33:33 -0500 (Tue, 04 Feb 2025) EndedAt: 2025-02-04 09:34:07 -0500 (Tue, 04 Feb 2025) EllapsedTime: 34.3 seconds RetCode: 0 Status: OK PackageFile: smartid_1.2.0.zip PackageFileSize: 1.515 MiB