Package: smartid Version: 1.2.0 Command: /home/biocbuild/R/R/bin/R CMD build --keep-empty-dirs --no-resave-data smartid StartedAt: 2025-02-04 03:06:24 -0000 (Tue, 04 Feb 2025) EndedAt: 2025-02-04 03:08:12 -0000 (Tue, 04 Feb 2025) EllapsedTime: 108.2 seconds RetCode: 0 Status: OK PackageFile: smartid_1.2.0.tar.gz PackageFileSize: 1.582 MiB