Package: smartid Version: 1.2.0 Command: /home/biocbuild/R/R/bin/R CMD INSTALL smartid StartedAt: 2025-02-03 21:05:13 -0000 (Mon, 03 Feb 2025) EndedAt: 2025-02-03 21:05:42 -0000 (Mon, 03 Feb 2025) EllapsedTime: 28.7 seconds RetCode: 0 Status: OK