Package: snapcount Version: 1.18.0 Command: /Library/Frameworks/R.framework/Resources/bin/R CMD build --keep-empty-dirs --no-resave-data snapcount StartedAt: 2025-02-11 08:32:37 -0500 (Tue, 11 Feb 2025) EndedAt: 2025-02-11 08:34:25 -0500 (Tue, 11 Feb 2025) EllapsedTime: 107.6 seconds RetCode: 0 Status: OK PackageFile: snapcount_1.18.0.tar.gz PackageFileSize: 514 KiB