Package: snapcount Version: 1.18.0 Command: /Library/Frameworks/R.framework/Resources/bin/R CMD check --install=check:snapcount.install-out.txt --library=/Library/Frameworks/R.framework/Resources/library --no-vignettes --timings snapcount_1.18.0.tar.gz StartedAt: 2025-02-05 10:46:01 -0500 (Wed, 05 Feb 2025) EndedAt: 2025-02-05 10:51:46 -0500 (Wed, 05 Feb 2025) EllapsedTime: 345.1 seconds RetCode: 0 Status: OK CheckDir: snapcount.Rcheck Warnings: 0