Package: snapcount Version: 1.18.0 Command: /Library/Frameworks/R.framework/Resources/bin/R CMD INSTALL snapcount StartedAt: 2025-02-03 15:23:53 -0500 (Mon, 03 Feb 2025) EndedAt: 2025-02-03 15:24:45 -0500 (Mon, 03 Feb 2025) EllapsedTime: 51.4 seconds RetCode: 0 Status: OK