Package: snapcount Version: 1.18.0 Command: /home/biocbuild/bbs-3.20-bioc/R/bin/R CMD build --keep-empty-dirs --no-resave-data --md5 snapcount StartedAt: 2025-02-03 19:23:43 -0500 (Mon, 03 Feb 2025) EndedAt: 2025-02-03 19:25:14 -0500 (Mon, 03 Feb 2025) EllapsedTime: 91.1 seconds RetCode: 0 Status: OK PackageFile: snapcount_1.18.0.tar.gz PackageFileSize: 515.9 KiB