Package: snapcount Version: 1.18.0 Command: /home/biocbuild/bbs-3.20-bioc/R/bin/R CMD INSTALL snapcount StartedAt: 2025-02-03 15:20:27 -0500 (Mon, 03 Feb 2025) EndedAt: 2025-02-03 15:20:51 -0500 (Mon, 03 Feb 2025) EllapsedTime: 24.1 seconds RetCode: 0 Status: OK