Package: snapcount Version: 1.18.0 Command: /home/biocbuild/R/R/bin/R CMD build --keep-empty-dirs --no-resave-data snapcount StartedAt: 2025-02-04 03:07:12 -0000 (Tue, 04 Feb 2025) EndedAt: 2025-02-04 03:09:41 -0000 (Tue, 04 Feb 2025) EllapsedTime: 149.3 seconds RetCode: 1 Status: ERROR PackageFile: None PackageFileSize: NA