Package: snapcount Version: 1.18.0 Command: /home/biocbuild/R/R/bin/R CMD INSTALL snapcount StartedAt: 2025-02-10 20:18:19 -0000 (Mon, 10 Feb 2025) EndedAt: 2025-02-10 20:18:53 -0000 (Mon, 10 Feb 2025) EllapsedTime: 33.5 seconds RetCode: 0 Status: OK