Package: snm Version: 1.54.0 Command: rm -rf snm.buildbin-libdir && mkdir snm.buildbin-libdir && /Users/biocbuild/BBS/utils/build-universal.sh snm_1.54.0.tar.gz /Library/Frameworks/R.framework/Resources/bin/R snm.buildbin-libdir StartedAt: 2025-02-05 17:54:06 -0500 (Wed, 05 Feb 2025) EndedAt: 2025-02-05 17:54:15 -0500 (Wed, 05 Feb 2025) EllapsedTime: 9.2 seconds RetCode: 0 Status: OK PackageFile: snm_1.54.0.tgz PackageFileSize: 615.5 KiB