Package: snm Version: 1.54.0 Command: /Library/Frameworks/R.framework/Resources/bin/R CMD build --keep-empty-dirs --no-resave-data snm StartedAt: 2025-02-04 08:37:27 -0500 (Tue, 04 Feb 2025) EndedAt: 2025-02-04 08:39:52 -0500 (Tue, 04 Feb 2025) EllapsedTime: 144.8 seconds RetCode: 0 Status: OK PackageFile: snm_1.54.0.tar.gz PackageFileSize: 727.8 KiB